BEGIN:VCALENDAR
VERSION:2.0
PRODID:-//Old Mill Feed &amp; Garden - ECPv6.15.20//NONSGML v1.0//EN
CALSCALE:GREGORIAN
METHOD:PUBLISH
X-ORIGINAL-URL:https://oldmillfeed.com
X-WR-CALDESC:Events for Old Mill Feed &amp; Garden
REFRESH-INTERVAL;VALUE=DURATION:PT1H
X-Robots-Tag:noindex
X-PUBLISHED-TTL:PT1H
BEGIN:VTIMEZONE
TZID:UTC
BEGIN:STANDARD
TZOFFSETFROM:+0000
TZOFFSETTO:+0000
TZNAME:UTC
DTSTART:20170101T000000
END:STANDARD
END:VTIMEZONE
BEGIN:VTIMEZONE
TZID:America/Los_Angeles
BEGIN:DAYLIGHT
TZOFFSETFROM:-0800
TZOFFSETTO:-0700
TZNAME:PDT
DTSTART:20190310T100000
END:DAYLIGHT
BEGIN:STANDARD
TZOFFSETFROM:-0700
TZOFFSETTO:-0800
TZNAME:PST
DTSTART:20191103T090000
END:STANDARD
BEGIN:DAYLIGHT
TZOFFSETFROM:-0800
TZOFFSETTO:-0700
TZNAME:PDT
DTSTART:20200308T100000
END:DAYLIGHT
BEGIN:STANDARD
TZOFFSETFROM:-0700
TZOFFSETTO:-0800
TZNAME:PST
DTSTART:20201101T090000
END:STANDARD
BEGIN:DAYLIGHT
TZOFFSETFROM:-0800
TZOFFSETTO:-0700
TZNAME:PDT
DTSTART:20210314T100000
END:DAYLIGHT
BEGIN:STANDARD
TZOFFSETFROM:-0700
TZOFFSETTO:-0800
TZNAME:PST
DTSTART:20211107T090000
END:STANDARD
END:VTIMEZONE
BEGIN:VEVENT
DTSTART;TZID=UTC:20210403T070000
DTEND;TZID=UTC:20210403T170000
DTSTAMP:20260423T161934
CREATED:20210116T201003Z
LAST-MODIFIED:20210116T201003Z
UID:521-1617433200-1617469200@oldmillfeed.com
SUMMARY:Chick Day - April 3\, 2021
DESCRIPTION:Things have changed a lot in the last year but Chick Day endures! \nWe are pleased to announce our 21st annual Chick Day on Saturday\, April 3\, 2021. Due to COVID restrictions\, we will be using a Drive-Through pickup system for all baby chicks\, ducks\, and turkeys that day. This system served us well last year\, so we plan to do it again in 2021. Each reservation will be assigned a pick-up time on Chick Day to avoid long lines of cars. All pick-up times will be between 7:00am and 5:00pm on Chick Day. You must have a reservation to participate. Start by checking our list of breeds posted here on our website\, then call 503-831-1222 or stop by the store to reserve your favorites.  Be safe\, be smart; start building your nest egg with a flock of laying hens! \nClick Here For A Printable Chick List: http://oldmillfeed.com/wp-content/uploads/Chick-List-2021.pdf
URL:https://oldmillfeed.com/event/chick-day-april-3-2021/
LOCATION:Old Mill Feed & Garden\, 1313 Main St.\, Dallas\, OR\, 97338\, United States
END:VEVENT
BEGIN:VEVENT
DTSTART;TZID=America/Los_Angeles:20201121T100000
DTEND;TZID=America/Los_Angeles:20201121T140000
DTSTAMP:20260423T161934
CREATED:20200107T210835Z
LAST-MODIFIED:20201023T200754Z
UID:488-1605952800-1605967200@oldmillfeed.com
SUMMARY:Pet Photos with Santa
DESCRIPTION:
URL:https://oldmillfeed.com/event/pet-photos-with-santa-2/
LOCATION:OR
ATTACH;FMTTYPE=image/jpeg:https://oldmillfeed.com/wp-content/uploads/2018/03/10714024_922245354471046_798907363717560478_o.jpg
END:VEVENT
BEGIN:VEVENT
DTSTART;TZID=America/Los_Angeles:20200404T083000
DTEND;TZID=America/Los_Angeles:20200404T170000
DTSTAMP:20260423T161934
CREATED:20200107T210649Z
LAST-MODIFIED:20200107T211931Z
UID:486-1585989000-1586019600@oldmillfeed.com
SUMMARY:Chick Day 2020 - The Poultry Event Of The Year!
DESCRIPTION:Join us on April 4th for the always anticipated annual Chick Day! Take home your own flock and start your very own egg and fertilizer factory.
URL:https://oldmillfeed.com/event/chick-day-2020/
LOCATION:OR
ATTACH;FMTTYPE=image/jpeg:https://oldmillfeed.com/wp-content/uploads/2018/03/Chicks-101.jpg
END:VEVENT
BEGIN:VEVENT
DTSTART;TZID=UTC:20181117T100000
DTEND;TZID=UTC:20181117T140000
DTSTAMP:20260423T161934
CREATED:20180322T210542Z
LAST-MODIFIED:20180322T210712Z
UID:128-1542448800-1542463200@oldmillfeed.com
SUMMARY:Pet Photos With Santa
DESCRIPTION:Everyone’s favorite fundraiser\, Pet Photos With Santa\, is Saturday\, Nov 17\, 2018 from 10:00 am to 2:00 pm. \nHelp us raise money for small\, local animal-related charities that don’t have the exposure to raise the funds they need. Bring your socialized pet (owners must be on a lead) for a photo session with the man himself\, Santa. We ask for a minimum $6 donation\, you get a “Christmas Card” quality digital image ready for printing. \nJoin us for our Holiday Pet Fair all day\, as well. Every one of our cat and dog foods will be on sale\, one day only\, during this event. We’ll also have vendors and give-aways during the day. A splendid time is guaranteed for all.
URL:https://oldmillfeed.com/event/pet-photos-with-santa/
LOCATION:Old Mill Feed & Garden\, 1313 Main St.\, Dallas\, OR\, 97338\, United States
ATTACH;FMTTYPE=image/jpeg:https://oldmillfeed.com/wp-content/uploads/2018/03/10714024_922245354471046_798907363717560478_o.jpg
END:VEVENT
BEGIN:VEVENT
DTSTART;TZID=UTC:20180407T083000
DTEND;TZID=UTC:20180407T170000
DTSTAMP:20260423T161934
CREATED:20180321T171717Z
LAST-MODIFIED:20180321T171717Z
UID:78-1523089800-1523120400@oldmillfeed.com
SUMMARY:Chick Day - The Poultry Event Of The Year!
DESCRIPTION:Join us on April 7th for the always anticipated annual Chick Day! Take home your own flock and start your very own egg and fertilizer factory.
URL:https://oldmillfeed.com/event/chick-day-the-poultry-event-of-the-year/
LOCATION:Old Mill Feed & Garden\, 1313 Main St.\, Dallas\, OR\, 97338\, United States
ATTACH;FMTTYPE=image/jpeg:https://oldmillfeed.com/wp-content/uploads/2018/03/Chick-Day-2018.jpg
END:VEVENT
BEGIN:VEVENT
DTSTART;TZID=UTC:20180404T100000
DTEND;TZID=UTC:20180404T120000
DTSTAMP:20260423T161934
CREATED:20180321T194949Z
LAST-MODIFIED:20180321T195101Z
UID:111-1522836000-1522843200@oldmillfeed.com
SUMMARY:Live Radio Brodcast - 1430 KYKN
DESCRIPTION:1430 KYKN’s Warren Franklin will broadcast LIVE from 10am to 12noon at Old Mill Feed & Garden to promote Chick Day 2018 (Saturday\, April 7th). Listen live at 1430am or stream direct from KYKN
URL:https://oldmillfeed.com/event/live-radio-brodcast-1430-kykn/
LOCATION:OR
ATTACH;FMTTYPE=image/jpeg:https://oldmillfeed.com/wp-content/uploads/2018/03/Old-Mill-Live-1430.jpg
END:VEVENT
BEGIN:VEVENT
DTSTART;TZID=UTC:20180321T183000
DTEND;TZID=UTC:20180321T203000
DTSTAMP:20260423T161934
CREATED:20180321T183513Z
LAST-MODIFIED:20180321T183853Z
UID:90-1521657000-1521664200@oldmillfeed.com
SUMMARY:Chicks 101
DESCRIPTION:Come on down to Old Mill for an evening of fun and education as our experts help guide you through raising chickens from start to finish. Darci from Veterinary Services Inc. and Scott from Purina Animal Nutrition with share their knowledge on raising a small flock from the first day you bring them home through maturity. You will learn how to keep the fragile young ones alive\, what to feed (and what not to!)\, how to protect them from predators\, and various health related issues that affect our fine\, feathered friends. REGISTRATION IS REQUIRED\, so please\, stop in\, call\, or send us a message to ensure you get a seat for this important event.
URL:https://oldmillfeed.com/event/chicks-101/
LOCATION:Old Mill Feed & Garden\, 1313 Main St.\, Dallas\, OR\, 97338\, United States
ATTACH;FMTTYPE=image/jpeg:https://oldmillfeed.com/wp-content/uploads/2018/03/Chicks-101.jpg
END:VEVENT
END:VCALENDAR